BEGIN:VCALENDAR
VERSION:2.0
PRODID:icalendar-ruby
CALSCALE:GREGORIAN
METHOD:PUBLISH
BEGIN:VEVENT
DTSTAMP:20260420T075803Z
UID:7-244836@redeemerminonk.com
DTSTART:20261004T150000Z
DTEND:20261004T162000Z
CLASS:PUBLIC
CREATED:20260420T022942
DESCRIPTION:
LAST-MODIFIED:20260420T022942
LOCATION:Redeemer
SUMMARY:Sunday Service
URL;VALUE=URI:https://www.redeemerminonk.com/events/sunday-service/2026-10-
 04
END:VEVENT
END:VCALENDAR
