BEGIN:VCALENDAR
VERSION:2.0
PRODID:icalendar-ruby
CALSCALE:GREGORIAN
METHOD:PUBLISH
BEGIN:VEVENT
DTSTAMP:20260422T094312Z
UID:7-245377@redeemerminonk.com
DTSTART:20261011T150000Z
DTEND:20261011T162000Z
CLASS:PUBLIC
CREATED:20260421T202019
DESCRIPTION:
LAST-MODIFIED:20260421T202019
LOCATION:Redeemer
SUMMARY:Sunday Service
URL;VALUE=URI:https://www.redeemerminonk.com/events/sunday-service/2026-10-
 11
END:VEVENT
END:VCALENDAR
