BEGIN:VCALENDAR
VERSION:2.0
PRODID:icalendar-ruby
CALSCALE:GREGORIAN
METHOD:PUBLISH
BEGIN:VEVENT
DTSTAMP:20260422T122812Z
UID:7-245424@redeemerminonk.com
DTSTART:20261025T150000Z
DTEND:20261025T162000Z
CLASS:PUBLIC
CREATED:20260422T072706
DESCRIPTION:
LAST-MODIFIED:20260422T072706
LOCATION:Redeemer
SUMMARY:Sunday Service
URL;VALUE=URI:https://www.redeemerminonk.com/events/sunday-service/2026-10-
 25
END:VEVENT
END:VCALENDAR
