BEGIN:VCALENDAR
VERSION:2.0
PRODID:icalendar-ruby
CALSCALE:GREGORIAN
METHOD:PUBLISH
BEGIN:VEVENT
DTSTAMP:20260422T135721Z
UID:7-245425@redeemerminonk.com
DTSTART:20261101T160000Z
DTEND:20261101T172000Z
CLASS:PUBLIC
CREATED:20260422T072706
DESCRIPTION:
LAST-MODIFIED:20260422T072706
LOCATION:Redeemer
SUMMARY:Sunday Service
URL;VALUE=URI:https://www.redeemerminonk.com/events/sunday-service/2026-11-
 01
END:VEVENT
END:VCALENDAR
